BEGIN:VCALENDAR
VERSION:2.0
PRODID:spatie/icalendar-generator
DESCRIPTION:Events from 
X-WR-CALDESC:Events from 
REFRESH-INTERVAL;VALUE=DURATION:PT1440M
X-PUBLISHED-TTL:PT1440M
BEGIN:VTIMEZONE
TZID:America/Phoenix
BEGIN:STANDARD
DTSTART:20241224T000000Z
TZOFFSETFROM:-0700
TZOFFSETTO:-0700
END:STANDARD
END:VTIMEZONE
BEGIN:VTIMEZONE
TZID:UTC
BEGIN:STANDARD
DTSTART:20250728T041648Z
TZOFFSETFROM:+0000
TZOFFSETTO:+0000
END:STANDARD
END:VTIMEZONE
BEGIN:VEVENT
UID:68-38
DTSTAMP:20260424T041648Z
SUMMARY:September Field Trip (Members Only) - Salt Flats Camp Verde
LOCATION:
ORGANIZER;CN=Admin:MAILTO:webmaster@sedonagemandmineral.org
DTSTART;TZID=America/Phoenix;VALUE=DATE:20250920
DTEND;TZID=America/Phoenix;VALUE=DATE:20250921
X-ALT-DESC;FMTTYPE=TEXT/HTML:
CATEGORIES:Event
URL;VALUE=URI:https://sedonagemandmineral.org/mc-events/september-field-tri
 p-members-only-salt-flats-camp-verde/
METHOD:PUBLISH
END:VEVENT
END:VCALENDAR