BEGIN:VCALENDAR
VERSION:2.0
PRODID:spatie/icalendar-generator
DESCRIPTION:Events from 
X-WR-CALDESC:Events from 
REFRESH-INTERVAL;VALUE=DURATION:PT1440M
X-PUBLISHED-TTL:PT1440M
BEGIN:VTIMEZONE
TZID:America/Phoenix
BEGIN:STANDARD
DTSTART:20250309T000000Z
TZOFFSETFROM:-0700
TZOFFSETTO:-0700
END:STANDARD
END:VTIMEZONE
BEGIN:VTIMEZONE
TZID:UTC
BEGIN:STANDARD
DTSTART:20250727T201706Z
TZOFFSETFROM:+0000
TZOFFSETTO:+0000
END:STANDARD
END:VTIMEZONE
BEGIN:VEVENT
UID:67-31
DTSTAMP:20260423T201706Z
SUMMARY:Christmas Party 2025 - Members only
LOCATION:
ORGANIZER;CN=Admin:MAILTO:webmaster@sedonagemandmineral.org
DTSTART;TZID=America/Phoenix;VALUE=DATE:20251204
DTEND;TZID=America/Phoenix;VALUE=DATE:20251205
X-ALT-DESC;FMTTYPE=TEXT/HTML:This year at Christ Lutheran Church\, Sedona.
   Stay tuned to newsletters for more information!  Registration will be 
 required.
CATEGORIES:Event
URL;VALUE=URI:https://sedonagemandmineral.org/mc-events/christmas-party-202
 5-members-only/
METHOD:PUBLISH
END:VEVENT
END:VCALENDAR