BEGIN:VCALENDAR
VERSION:2.0
PRODID:spatie/icalendar-generator
DESCRIPTION:Events from 
X-WR-CALDESC:Events from 
REFRESH-INTERVAL;VALUE=DURATION:PT1440M
X-PUBLISHED-TTL:PT1440M
BEGIN:VTIMEZONE
TZID:America/Phoenix
BEGIN:STANDARD
DTSTART:20240528T000000Z
TZOFFSETFROM:-0700
TZOFFSETTO:-0700
END:STANDARD
END:VTIMEZONE
BEGIN:VTIMEZONE
TZID:UTC
BEGIN:STANDARD
DTSTART:20250728T045930Z
TZOFFSETFROM:+0000
TZOFFSETTO:+0000
END:STANDARD
END:VTIMEZONE
BEGIN:VEVENT
UID:56-29
DTSTAMP:20260424T045930Z
SUMMARY:FIELD TRIP - Gap Creek\, Members only.
LOCATION:
ORGANIZER;CN=Admin:MAILTO:webmaster@sedonagemandmineral.org
DTSTART;TZID=America/Phoenix;VALUE=DATE:20250222
DTEND;TZID=America/Phoenix;VALUE=DATE:20250223
X-ALT-DESC;FMTTYPE=TEXT/HTML:This is a members only event\; please see news
 letter and reach out to Rik Fritz if you wish to participate.  We will be
  headed to the Camp Verde area to collect jasper\, agate and onyx.
CATEGORIES:Field Trip
URL;VALUE=URI:https://sedonagemandmineral.org/mc-events/field-trip-gap-cree
 k-members-only/
METHOD:PUBLISH
END:VEVENT
END:VCALENDAR