BEGIN:VCALENDAR
VERSION:2.0
PRODID:spatie/icalendar-generator
DESCRIPTION:Events from 
X-WR-CALDESC:Events from 
REFRESH-INTERVAL;VALUE=DURATION:PT1440M
X-PUBLISHED-TTL:PT1440M
BEGIN:VTIMEZONE
TZID:America/Phoenix
BEGIN:STANDARD
DTSTART:20240423T090000Z
TZOFFSETFROM:-0700
TZOFFSETTO:-0700
END:STANDARD
END:VTIMEZONE
BEGIN:VTIMEZONE
TZID:UTC
BEGIN:STANDARD
DTSTART:20250727T204855Z
TZOFFSETFROM:+0000
TZOFFSETTO:+0000
END:STANDARD
END:VTIMEZONE
BEGIN:VEVENT
UID:55-28
DTSTAMP:20260423T204855Z
SUMMARY:Quartzite PowWow Show\, Pat McMahan's Booth
LOCATION:
ORGANIZER;CN=Admin:MAILTO:webmaster@sedonagemandmineral.org
RRULE:FREQ=DAILY;UNTIL=20250119T000000Z
DTSTART;TZID=America/Phoenix:20250118T090000
DTEND;TZID=America/Phoenix:20250118T180000
X-ALT-DESC;FMTTYPE=TEXT/HTML:We will be working at Pat McMahan’s booth du
 ring the Show and he has offered for any club members to drop off their pu
 rchases for safe keeping while they go out and buy more! He will also have
  drinks on hand to help keep you hydrated while shopping. While there chec
 k out some of the&amp;hellip\;
CATEGORIES:Field Trip
URL;VALUE=URI:https://sedonagemandmineral.org/mc-events/quartzite-powwow-sh
 ow-pat-mcmahans-booth/?mc_id=55
METHOD:PUBLISH
END:VEVENT
END:VCALENDAR