BEGIN:VCALENDAR
VERSION:2.0
PRODID:spatie/icalendar-generator
DESCRIPTION:Events from 
X-WR-CALDESC:Events from 
REFRESH-INTERVAL;VALUE=DURATION:PT1440M
X-PUBLISHED-TTL:PT1440M
BEGIN:VTIMEZONE
TZID:America/Phoenix
BEGIN:STANDARD
DTSTART:20240405T000000Z
TZOFFSETFROM:-0700
TZOFFSETTO:-0700
END:STANDARD
END:VTIMEZONE
BEGIN:VTIMEZONE
TZID:UTC
BEGIN:STANDARD
DTSTART:20250727T173610Z
TZOFFSETFROM:+0000
TZOFFSETTO:+0000
END:STANDARD
END:VTIMEZONE
BEGIN:VEVENT
UID:45-27
DTSTAMP:20260423T173610Z
SUMMARY:Membership Renewal Deadline
LOCATION:
ORGANIZER;CN=Admin:MAILTO:webmaster@sedonagemandmineral.org
DTSTART;TZID=America/Phoenix:20241231T000000
DTEND;TZID=America/Phoenix:20241231T010000
X-ALT-DESC;FMTTYPE=TEXT/HTML:Membership Dues must be received or benefits e
 nded.  Membership can be reinstated at anytime but there is no proration.
CATEGORIES:Event
URL;VALUE=URI:https://sedonagemandmineral.org/mc-events/membership-renewal-
 deadline/
METHOD:PUBLISH
END:VEVENT
END:VCALENDAR