BEGIN:VCALENDAR
VERSION:2.0
PRODID:spatie/icalendar-generator
DESCRIPTION:Events from 
X-WR-CALDESC:Events from 
REFRESH-INTERVAL;VALUE=DURATION:PT1440M
X-PUBLISHED-TTL:PT1440M
BEGIN:VTIMEZONE
TZID:America/Phoenix
BEGIN:STANDARD
DTSTART:20240225T000000Z
TZOFFSETFROM:-0700
TZOFFSETTO:-0700
END:STANDARD
END:VTIMEZONE
BEGIN:VTIMEZONE
TZID:UTC
BEGIN:STANDARD
DTSTART:20250727T165808Z
TZOFFSETFROM:+0000
TZOFFSETTO:+0000
END:STANDARD
END:VTIMEZONE
BEGIN:VEVENT
UID:38-20
DTSTAMP:20260423T165808Z
SUMMARY:FIELD TRIP - Perkinsville Pink Agates
LOCATION:
ORGANIZER;CN=Admin:MAILTO:webmaster@sedonagemandmineral.org
DTSTART;TZID=America/Phoenix;VALUE=DATE:20241121
DTEND;TZID=America/Phoenix;VALUE=DATE:20241122
X-ALT-DESC;FMTTYPE=TEXT/HTML:Our trip this month will be to the Perkinsvill
 e area north of Jerome to collect the multicolored agate that occurs in th
 e area. Most of the material is opaque with colors from white to pink that
  takes a fantastic polish.   Members Only.  See newsletter for details\,
  and then email or call Rick\, sign up&amp;hellip\;
CATEGORIES:Event
URL;VALUE=URI:https://sedonagemandmineral.org/mc-events/field-trip-perkinsv
 ille-pink-agates/
METHOD:PUBLISH
END:VEVENT
END:VCALENDAR