BEGIN:VCALENDAR
VERSION:2.0
PRODID:spatie/icalendar-generator
DESCRIPTION:Events from 
X-WR-CALDESC:Events from 
REFRESH-INTERVAL;VALUE=DURATION:PT1440M
X-PUBLISHED-TTL:PT1440M
BEGIN:VTIMEZONE
TZID:America/Phoenix
BEGIN:STANDARD
DTSTART:20240123T000000Z
TZOFFSETFROM:-0700
TZOFFSETTO:-0700
END:STANDARD
END:VTIMEZONE
BEGIN:VTIMEZONE
TZID:UTC
BEGIN:STANDARD
DTSTART:20250727T204348Z
TZOFFSETFROM:+0000
TZOFFSETTO:+0000
END:STANDARD
END:VTIMEZONE
BEGIN:VEVENT
UID:30-15
DTSTAMP:20260423T204348Z
SUMMARY:SEDONA GEM AND MINERAL CLUB ANNUAL SHOW
LOCATION:Sedona Red Rock Jr. Sr. High School 995 Upper Red Rock Loop Rd  Se
 dona AZ 86336
ORGANIZER;CN=Admin:MAILTO:webmaster@sedonagemandmineral.org
DTSTART;TZID=America/Phoenix;VALUE=DATE:20241019
DTEND;TZID=America/Phoenix;VALUE=DATE:20241021
X-ALT-DESC;FMTTYPE=TEXT/HTML:Rock\, Gem and Jewelry Show.   Not to be mis
 sed!   Sedona Red Rock High School.  Free Parking.  $5 Admission fee (c
 ash only.)
CATEGORIES:Event
URL;VALUE=URI:https://sedonagemandmineral.org/mc-events/sedona-gem-and-mine
 ral-club-annual-show-2/
METHOD:PUBLISH
END:VEVENT
END:VCALENDAR