BEGIN:VCALENDAR
VERSION:2.0
PRODID:spatie/icalendar-generator
DESCRIPTION:Events from 
X-WR-CALDESC:Events from 
REFRESH-INTERVAL;VALUE=DURATION:PT1440M
X-PUBLISHED-TTL:PT1440M
BEGIN:VTIMEZONE
TZID:America/Phoenix
BEGIN:STANDARD
DTSTART:20230822T000000Z
TZOFFSETFROM:-0700
TZOFFSETTO:-0700
END:STANDARD
END:VTIMEZONE
BEGIN:VTIMEZONE
TZID:UTC
BEGIN:STANDARD
DTSTART:20250727T233649Z
TZOFFSETFROM:+0000
TZOFFSETTO:+0000
END:STANDARD
END:VTIMEZONE
BEGIN:VEVENT
UID:29-8
DTSTAMP:20260423T233649Z
SUMMARY:Annual Club Picnic &amp;amp\; Search for Honey Onyx\; Members Only
LOCATION:Montezuma Well  5525 Beaver Creek Rd.  Rimrock AZ 86335
ORGANIZER;CN=Admin:MAILTO:webmaster@sedonagemandmineral.org
DTSTART;TZID=America/Phoenix;VALUE=DATE:20240518
DTEND;TZID=America/Phoenix;VALUE=DATE:20240519
X-ALT-DESC;FMTTYPE=TEXT/HTML:We have to unexpectedly change venue.  Phone 
 calls are going out.  New location is at Park on 660 Bell Rock Blvd\, Oak
  Creek Village (near Country Club). &amp;nbsp\; &amp;nbsp\;
CATEGORIES:Event,  Field Trip
URL;VALUE=URI:https://sedonagemandmineral.org/mc-events/annual-club-picnic-
 search-for-honey-onyx-members-only/
METHOD:PUBLISH
END:VEVENT
END:VCALENDAR