BEGIN:VCALENDAR
VERSION:2.0
PRODID:spatie/icalendar-generator
DESCRIPTION:Events from 
X-WR-CALDESC:Events from 
REFRESH-INTERVAL;VALUE=DURATION:PT1440M
X-PUBLISHED-TTL:PT1440M
BEGIN:VTIMEZONE
TZID:America/Phoenix
BEGIN:STANDARD
DTSTART:20230516T100000Z
TZOFFSETFROM:-0700
TZOFFSETTO:-0700
END:STANDARD
END:VTIMEZONE
BEGIN:VTIMEZONE
TZID:UTC
BEGIN:STANDARD
DTSTART:20250727T220020Z
TZOFFSETFROM:+0000
TZOFFSETTO:+0000
END:STANDARD
END:VTIMEZONE
BEGIN:VEVENT
UID:20-10
DTSTAMP:20260423T220020Z
SUMMARY:Field Trip\, Tucson Gem and Mineral Show\, Main Show\, Members Only
LOCATION:Tucson Convention Center  260 S. Church Avenue  Tucson AZ 85701
ORGANIZER;CN=Admin:MAILTO:webmaster@sedonagemandmineral.org
DTSTART;TZID=America/Phoenix:20240210T100000
DTEND;TZID=America/Phoenix:20240210T140000
X-ALT-DESC;FMTTYPE=TEXT/HTML:Rik Fritz will meet participating members at t
 he convention Center Show when it opens on Saturday.  Depending on your i
 nterests\, he can help you determine which of the 42 shows might best serv
 e your needs.  The main show at the Convention Center has a charge of $10
 \, most of the others do not charge.  See&amp;hellip\;
CATEGORIES:Field Trip
URL;VALUE=URI:https://sedonagemandmineral.org/mc-events/field-trip-tucson-g
 em-and-mineral-show-main-show-members-only/
METHOD:PUBLISH
END:VEVENT
END:VCALENDAR