BEGIN:VCALENDAR
VERSION:2.0
PRODID:spatie/icalendar-generator
DESCRIPTION:Events from 
X-WR-CALDESC:Events from 
REFRESH-INTERVAL;VALUE=DURATION:PT1440M
X-PUBLISHED-TTL:PT1440M
BEGIN:VTIMEZONE
TZID:America/Phoenix
BEGIN:STANDARD
DTSTART:20230227T000000Z
TZOFFSETFROM:-0700
TZOFFSETTO:-0700
END:STANDARD
END:VTIMEZONE
BEGIN:VTIMEZONE
TZID:UTC
BEGIN:STANDARD
DTSTART:20250728T024719Z
TZOFFSETFROM:+0000
TZOFFSETTO:+0000
END:STANDARD
END:VTIMEZONE
BEGIN:VEVENT
UID:13-4
DTSTAMP:20260424T024719Z
SUMMARY:Field Trip - Apache Creek\, New Mexico Overnight\, Members Only - s
 ee emails and newsletters for more info.  Reserve by Wednesday.
LOCATION:
ORGANIZER;CN=Admin:MAILTO:webmaster@sedonagemandmineral.org
DTSTART;TZID=America/Phoenix;VALUE=DATE:20231124
DTEND;TZID=America/Phoenix;VALUE=DATE:20231125
X-ALT-DESC;FMTTYPE=TEXT/HTML:Join us for our annual overnight campout and o
 ur quest for agates.  See November Newsletter for more details.  Members
  only\, please indicate attendance to Rik Fritz.
CATEGORIES:Field Trip
URL;VALUE=URI:https://sedonagemandmineral.org/mc-events/field-trip-apache-c
 reek-new-mexico-overnight-members-only-see-emails-and-newsletters-for-more
 -info-reserve-by-wednesday/
METHOD:PUBLISH
END:VEVENT
END:VCALENDAR