BEGIN:VCALENDAR
VERSION:2.0
PRODID:spatie/icalendar-generator
DESCRIPTION:Events from 
X-WR-CALDESC:Events from 
REFRESH-INTERVAL;VALUE=DURATION:PT1440M
X-PUBLISHED-TTL:PT1440M
BEGIN:VTIMEZONE
TZID:America/Phoenix
BEGIN:STANDARD
DTSTART:20230530T090000Z
TZOFFSETFROM:-0700
TZOFFSETTO:-0700
END:STANDARD
END:VTIMEZONE
BEGIN:VTIMEZONE
TZID:UTC
BEGIN:STANDARD
DTSTART:20250727T232932Z
TZOFFSETFROM:+0000
TZOFFSETTO:+0000
END:STANDARD
END:VTIMEZONE
BEGIN:VEVENT
UID:12-5
DTSTAMP:20260423T232932Z
SUMMARY:Field Trip - Rowley Mine\, Gila Bend\, Members Only
LOCATION:
ORGANIZER;CN=Admin:MAILTO:webmaster@sedonagemandmineral.org
DTSTART;TZID=America/Phoenix:20240224T090000
DTEND;TZID=America/Phoenix:20240224T160000
X-ALT-DESC;FMTTYPE=TEXT/HTML:We will travel to look for beautiful chrysocol
 la.  This is a pay dig.  See Newsletters for more details.  Member Only
 \, please indicate attendance to Rik Fritz.
CATEGORIES:Field Trip
URL;VALUE=URI:https://sedonagemandmineral.org/mc-events/field-trip-rowley-m
 ine-gila-bend-members-only/
METHOD:PUBLISH
END:VEVENT
END:VCALENDAR