BEGIN:VCALENDAR
VERSION:2.0
PRODID:spatie/icalendar-generator
DESCRIPTION:Events from 
X-WR-CALDESC:Events from 
REFRESH-INTERVAL;VALUE=DURATION:PT1440M
X-PUBLISHED-TTL:PT1440M
BEGIN:VTIMEZONE
TZID:America/Phoenix
BEGIN:STANDARD
DTSTART:20230721T190000Z
TZOFFSETFROM:-0700
TZOFFSETTO:-0700
END:STANDARD
END:VTIMEZONE
BEGIN:VTIMEZONE
TZID:UTC
BEGIN:STANDARD
DTSTART:20250727T221923Z
TZOFFSETFROM:+0000
TZOFFSETTO:+0000
END:STANDARD
END:VTIMEZONE
BEGIN:VEVENT
UID:8-2
DTSTAMP:20260423T221923Z
SUMMARY:Monthly Club Meeting
LOCATION:Sedona Public Library 3250 White Bear Road  Sedona AZ 86336
ORGANIZER;CN=Admin:MAILTO:webmaster@sedonagemandmineral.org
DTSTART;TZID=America/Phoenix:20240416T190000
DTEND;TZID=America/Phoenix:20240416T210000
X-ALT-DESC;FMTTYPE=TEXT/HTML:Meet at the Sedona Public Library\, 3250 White
  Bear Rd\, Sedona\, AZ 86336 from 7 pm to 9 pm on the 3rd Tuesday of every
  month January through May and September through November.  Guests are we
 lcome.  Refreshments served – those who bring a refreshment receive fre
 e raffle tickets.   See web page for featured speaker.  This&amp;hellip\;
CATEGORIES:Meeting
URL;VALUE=URI:https://sedonagemandmineral.org/mc-events/monthly-club-meetin
 g/
METHOD:PUBLISH
END:VEVENT
END:VCALENDAR