BEGIN:VCALENDAR
VERSION:2.0
PRODID:spatie/icalendar-generator
DESCRIPTION:Events from 
X-WR-CALDESC:Events from 
REFRESH-INTERVAL;VALUE=DURATION:PT1440M
X-PUBLISHED-TTL:PT1440M
BEGIN:VTIMEZONE
TZID:America/Phoenix
BEGIN:STANDARD
DTSTART:20250623T000000Z
TZOFFSETFROM:-0700
TZOFFSETTO:-0700
END:STANDARD
END:VTIMEZONE
BEGIN:VTIMEZONE
TZID:UTC
BEGIN:STANDARD
DTSTART:20250727T152503Z
TZOFFSETFROM:+0000
TZOFFSETTO:+0000
END:STANDARD
END:VTIMEZONE
BEGIN:VEVENT
UID:76-42
DTSTAMP:20260423T152503Z
SUMMARY:FIELD TRIP - Burro Creek (Members Only)
LOCATION:
ORGANIZER;CN=Admin:MAILTO:webmaster@sedonagemandmineral.org
DTSTART;TZID=America/Phoenix;VALUE=DATE:20260320
DTEND;TZID=America/Phoenix;VALUE=DATE:20260322
X-ALT-DESC;FMTTYPE=TEXT/HTML:Two day field adventure in search of beautiful
  Burro Creek Purple Agate and Saponite with Agate.  A caravan will leave 
 at 10 am Friday March 20th\, the nearest town is Wikiup.  Read the March 
 Newsletter for full details.
CATEGORIES:Field Trip
URL;VALUE=URI:https://sedonagemandmineral.org/mc-events/field-trip-burro-cr
 eek-members-only/
METHOD:PUBLISH
END:VEVENT
END:VCALENDAR