BEGIN:VCALENDAR
VERSION:2.0
PRODID:spatie/icalendar-generator
DESCRIPTION:Events from 
X-WR-CALDESC:Events from 
REFRESH-INTERVAL;VALUE=DURATION:PT1440M
X-PUBLISHED-TTL:PT1440M
BEGIN:VTIMEZONE
TZID:America/Phoenix
BEGIN:STANDARD
DTSTART:20260106T000000Z
TZOFFSETFROM:-0700
TZOFFSETTO:-0700
END:STANDARD
END:VTIMEZONE
BEGIN:VTIMEZONE
TZID:UTC
BEGIN:STANDARD
DTSTART:20250727T171331Z
TZOFFSETFROM:+0000
TZOFFSETTO:+0000
END:STANDARD
END:VTIMEZONE
BEGIN:VEVENT
UID:74-41
DTSTAMP:20260423T171331Z
SUMMARY:Annual Gem and Mineral Show 2026
LOCATION:
ORGANIZER;CN=Admin:MAILTO:webmaster@sedonagemandmineral.org
DTSTART;TZID=America/Phoenix;VALUE=DATE:20261003
DTEND;TZID=America/Phoenix;VALUE=DATE:20261005
X-ALT-DESC;FMTTYPE=TEXT/HTML:The fabulous annual Sedona Gem and Mineral Clu
 b show is held on October 3rd and 4th at the Sedona Red Rock High School.
   We are breaking tradition from our normal 3rd week show!
CATEGORIES:Event
URL;VALUE=URI:https://sedonagemandmineral.org/mc-events/annual-gem-and-mine
 ral-show-2026/
METHOD:PUBLISH
END:VEVENT
END:VCALENDAR