BEGIN:VCALENDAR
VERSION:2.0
PRODID:spatie/icalendar-generator
DESCRIPTION:Events from 
X-WR-CALDESC:Events from 
REFRESH-INTERVAL;VALUE=DURATION:PT1440M
X-PUBLISHED-TTL:PT1440M
BEGIN:VTIMEZONE
TZID:America/Phoenix
BEGIN:STANDARD
DTSTART:20240625T000000Z
TZOFFSETFROM:-0700
TZOFFSETTO:-0700
END:STANDARD
END:VTIMEZONE
BEGIN:VTIMEZONE
TZID:UTC
BEGIN:STANDARD
DTSTART:20250728T062728Z
TZOFFSETFROM:+0000
TZOFFSETTO:+0000
END:STANDARD
END:VTIMEZONE
BEGIN:VEVENT
UID:59-32
DTSTAMP:20260424T062728Z
SUMMARY:FIELD TRIP - Mines near Tonopah\, Members Only
LOCATION:
ORGANIZER;CN=Admin:MAILTO:webmaster@sedonagemandmineral.org
DTSTART;TZID=America/Phoenix:20250322T000000
DTEND;TZID=America/Phoenix:20250323T010000
X-ALT-DESC;FMTTYPE=TEXT/HTML:March will be an overnighter to the Spectrum\,
  Blue Cube and Prism mines near Tonopah west of Phoenix. There are 3 areas
  to collect for amethyst\, fluorite and fluorescent minerals.  See March 
 Newsletter for more information.
CATEGORIES:Field Trip
URL;VALUE=URI:https://sedonagemandmineral.org/mc-events/field-trip-mines-ne
 ar-tonopah-members-only/
METHOD:PUBLISH
END:VEVENT
END:VCALENDAR