BEGIN:VCALENDAR
VERSION:2.0
PRODID:spatie/icalendar-generator
DESCRIPTION:Events from 
X-WR-CALDESC:Events from 
REFRESH-INTERVAL;VALUE=DURATION:PT1440M
X-PUBLISHED-TTL:PT1440M
BEGIN:VTIMEZONE
TZID:America/Phoenix
BEGIN:STANDARD
DTSTART:20240820T000000Z
TZOFFSETFROM:-0700
TZOFFSETTO:-0700
END:STANDARD
END:VTIMEZONE
BEGIN:VTIMEZONE
TZID:UTC
BEGIN:STANDARD
DTSTART:20250728T055108Z
TZOFFSETFROM:+0000
TZOFFSETTO:+0000
END:STANDARD
END:VTIMEZONE
BEGIN:VEVENT
UID:57-30
DTSTAMP:20260424T055108Z
SUMMARY:Annual Picnic 2025 - Members Only
LOCATION:
ORGANIZER;CN=Admin:MAILTO:webmaster@sedonagemandmineral.org
DTSTART;TZID=America/Phoenix;VALUE=DATE:20250517
DTEND;TZID=America/Phoenix;VALUE=DATE:20250518
X-ALT-DESC;FMTTYPE=TEXT/HTML:The Picnic will be held at the Pavilion in the
  Village of Oak Creek.  Read your newsletters for more information to fol
 low.
CATEGORIES:Event
URL;VALUE=URI:https://sedonagemandmineral.org/mc-events/annual-picnic-2025-
 members-only/
METHOD:PUBLISH
END:VEVENT
END:VCALENDAR