BEGIN:VCALENDAR
VERSION:2.0
PRODID:spatie/icalendar-generator
DESCRIPTION:Events from 
X-WR-CALDESC:Events from 
REFRESH-INTERVAL;VALUE=DURATION:PT1440M
X-PUBLISHED-TTL:PT1440M
BEGIN:VTIMEZONE
TZID:America/Phoenix
BEGIN:STANDARD
DTSTART:20240105T000000Z
TZOFFSETFROM:-0700
TZOFFSETTO:-0700
END:STANDARD
END:VTIMEZONE
BEGIN:VTIMEZONE
TZID:UTC
BEGIN:STANDARD
DTSTART:20250727T222226Z
TZOFFSETFROM:+0000
TZOFFSETTO:+0000
END:STANDARD
END:VTIMEZONE
BEGIN:VEVENT
UID:44-26
DTSTAMP:20260423T222226Z
SUMMARY:Annual Dues Renewal Begins
LOCATION:
ORGANIZER;CN=Admin:MAILTO:webmaster@sedonagemandmineral.org
DTSTART;TZID=America/Phoenix;VALUE=DATE:20241001
DTEND;TZID=America/Phoenix;VALUE=DATE:20241002
X-ALT-DESC;FMTTYPE=TEXT/HTML:See About Page for more information.  Due by 
 12/31/24 or contact information and benefits will be discontinued.
CATEGORIES:Event
URL;VALUE=URI:https://sedonagemandmineral.org/mc-events/annual-dues-renewal
 -begins/
METHOD:PUBLISH
END:VEVENT
END:VCALENDAR