BEGIN:VCALENDAR
VERSION:2.0
PRODID:spatie/icalendar-generator
DESCRIPTION:Events from 
X-WR-CALDESC:Events from 
REFRESH-INTERVAL;VALUE=DURATION:PT1440M
X-PUBLISHED-TTL:PT1440M
BEGIN:VTIMEZONE
TZID:America/Phoenix
BEGIN:STANDARD
DTSTART:20240309T000000Z
TZOFFSETFROM:-0700
TZOFFSETTO:-0700
END:STANDARD
END:VTIMEZONE
BEGIN:VTIMEZONE
TZID:UTC
BEGIN:STANDARD
DTSTART:20250727T170841Z
TZOFFSETFROM:+0000
TZOFFSETTO:+0000
END:STANDARD
END:VTIMEZONE
BEGIN:VEVENT
UID:43-25
DTSTAMP:20260423T170841Z
SUMMARY:Annual Christmas Party
LOCATION:
ORGANIZER;CN=Admin:MAILTO:webmaster@sedonagemandmineral.org
DTSTART;TZID=America/Phoenix;VALUE=DATE:20241204
DTEND;TZID=America/Phoenix;VALUE=DATE:20241205
X-ALT-DESC;FMTTYPE=TEXT/HTML:St. Andrews Church\, 100 Arroyo Pinon Dr\, Sed
 ona\, AZ 86336\, times tbd.  No gift exchange but member specimen give-aw
 ay will be part of the festivities.  Members Only.  contact Angie for si
 gn-up for a side-dish or desert - see newsletter or contact us through the
  web to participate.
CATEGORIES:Event
URL;VALUE=URI:https://sedonagemandmineral.org/mc-events/annual-christmas-pa
 rty/
METHOD:PUBLISH
END:VEVENT
END:VCALENDAR