BEGIN:VCALENDAR
VERSION:2.0
PRODID:spatie/icalendar-generator
DESCRIPTION:Events from 
X-WR-CALDESC:Events from 
REFRESH-INTERVAL;VALUE=DURATION:PT1440M
X-PUBLISHED-TTL:PT1440M
BEGIN:VTIMEZONE
TZID:America/Phoenix
BEGIN:STANDARD
DTSTART:20231226T000000Z
TZOFFSETFROM:-0700
TZOFFSETTO:-0700
END:STANDARD
END:VTIMEZONE
BEGIN:VTIMEZONE
TZID:UTC
BEGIN:STANDARD
DTSTART:20250727T233933Z
TZOFFSETFROM:+0000
TZOFFSETTO:+0000
END:STANDARD
END:VTIMEZONE
BEGIN:VEVENT
UID:34-17
DTSTAMP:20260423T233933Z
SUMMARY:Field Trip\, Parks AZ
LOCATION:
ORGANIZER;CN=Admin:MAILTO:webmaster@sedonagemandmineral.org
DTSTART;TZID=America/Phoenix;VALUE=DATE:20240921
DTEND;TZID=America/Phoenix;VALUE=DATE:20240922
X-ALT-DESC;FMTTYPE=TEXT/HTML:Easy drive to search for black and mahogany va
 rieties of obsidian.  Members Only.  See newsletter for details or go to
  Field Trip page to indicate your attendance.
CATEGORIES:Field Trip
URL;VALUE=URI:https://sedonagemandmineral.org/mc-events/field-trip-parks-az
 /
METHOD:PUBLISH
END:VEVENT
END:VCALENDAR