BEGIN:VCALENDAR
VERSION:2.0
PRODID:spatie/icalendar-generator
DESCRIPTION:Events from 
X-WR-CALDESC:Events from 
REFRESH-INTERVAL;VALUE=DURATION:PT1440M
X-PUBLISHED-TTL:PT1440M
BEGIN:VTIMEZONE
TZID:America/Phoenix
BEGIN:STANDARD
DTSTART:20230311T160000Z
TZOFFSETFROM:-0700
TZOFFSETTO:-0700
END:STANDARD
END:VTIMEZONE
BEGIN:VTIMEZONE
TZID:UTC
BEGIN:STANDARD
DTSTART:20250727T233051Z
TZOFFSETFROM:+0000
TZOFFSETTO:+0000
END:STANDARD
END:VTIMEZONE
BEGIN:VEVENT
UID:23-13
DTSTAMP:20260423T233051Z
SUMMARY:Christmas Party - Members Only
LOCATION:
ORGANIZER;CN=Admin:MAILTO:webmaster@sedonagemandmineral.org
DTSTART;TZID=America/Phoenix:20231206T160000
DTEND;TZID=America/Phoenix:20231206T200000
X-ALT-DESC;FMTTYPE=TEXT/HTML:St. Andrews Church\, located 100 Arroyo Pinon 
 Drive\, West Sedona See newsletter for details.
CATEGORIES:Event
URL;VALUE=URI:https://sedonagemandmineral.org/mc-events/christmas-party-mem
 bers-only/
METHOD:PUBLISH
END:VEVENT
END:VCALENDAR