BEGIN:VCALENDAR
VERSION:2.0
PRODID:spatie/icalendar-generator
DESCRIPTION:Events from 
X-WR-CALDESC:Events from 
REFRESH-INTERVAL;VALUE=DURATION:PT1440M
X-PUBLISHED-TTL:PT1440M
BEGIN:VTIMEZONE
TZID:America/Phoenix
BEGIN:STANDARD
DTSTART:20230324T000000Z
TZOFFSETFROM:-0700
TZOFFSETTO:-0700
END:STANDARD
END:VTIMEZONE
BEGIN:VTIMEZONE
TZID:UTC
BEGIN:STANDARD
DTSTART:20250727T232405Z
TZOFFSETFROM:+0000
TZOFFSETTO:+0000
END:STANDARD
END:VTIMEZONE
BEGIN:VEVENT
UID:21-11
DTSTAMP:20260423T232405Z
SUMMARY:No Monthly Meeting - Party tba
LOCATION:
ORGANIZER;CN=Admin:MAILTO:webmaster@sedonagemandmineral.org
DTSTART;TZID=America/Phoenix;VALUE=DATE:20231219
DTEND;TZID=America/Phoenix;VALUE=DATE:20231220
X-ALT-DESC;FMTTYPE=TEXT/HTML:Christmas Party date\, time and place to be an
 nounced!  Always fun!
CATEGORIES:Event
URL;VALUE=URI:https://sedonagemandmineral.org/mc-events/no-monthly-meeting-
 party-tba/
METHOD:PUBLISH
END:VEVENT
END:VCALENDAR