BEGIN:VCALENDAR
VERSION:2.0
PRODID:spatie/icalendar-generator
DESCRIPTION:Events from 
X-WR-CALDESC:Events from 
REFRESH-INTERVAL;VALUE=DURATION:PT1440M
X-PUBLISHED-TTL:PT1440M
BEGIN:VTIMEZONE
TZID:America/Phoenix
BEGIN:STANDARD
DTSTART:20230425T000000Z
TZOFFSETFROM:-0700
TZOFFSETTO:-0700
END:STANDARD
END:VTIMEZONE
BEGIN:VTIMEZONE
TZID:UTC
BEGIN:STANDARD
DTSTART:20250727T184331Z
TZOFFSETFROM:+0000
TZOFFSETTO:+0000
END:STANDARD
END:VTIMEZONE
BEGIN:VEVENT
UID:19-9
DTSTAMP:20260423T184331Z
SUMMARY:Field Trip - Quartzsite Pow Wow\, Members Only
LOCATION:QIA Pow Wow Show 235 East Ironwood  Quartzsite AZ 85346
ORGANIZER;CN=Admin:MAILTO:webmaster@sedonagemandmineral.org
DTSTART;TZID=America/Phoenix;VALUE=DATE:20240120
DTEND;TZID=America/Phoenix;VALUE=DATE:20240121
X-ALT-DESC;FMTTYPE=TEXT/HTML:The QIA Pow Wow show\, one of the most popular
  of all the January Quartzsite shows\, will be held January 17th - 21st. 
  The Club will organize a time and meeting location for a club outing to h
 elp navigate and enjoy the wonderful booths and exhibits at this show on S
 aturday\, January 20th.  Free admission&amp;hellip\;
CATEGORIES:Field Trip
URL;VALUE=URI:https://sedonagemandmineral.org/mc-events/field-trip-quartzsi
 te-pow-wow-members-only/
METHOD:PUBLISH
END:VEVENT
END:VCALENDAR