BEGIN:VCALENDAR
VERSION:2.0
PRODID:spatie/icalendar-generator
DESCRIPTION:Events from 
X-WR-CALDESC:Events from 
REFRESH-INTERVAL;VALUE=DURATION:PT1440M
X-PUBLISHED-TTL:PT1440M
BEGIN:VTIMEZONE
TZID:America/Phoenix
BEGIN:STANDARD
DTSTART:20230725T000000Z
TZOFFSETFROM:-0700
TZOFFSETTO:-0700
END:STANDARD
END:VTIMEZONE
BEGIN:VTIMEZONE
TZID:UTC
BEGIN:STANDARD
DTSTART:20250727T234557Z
TZOFFSETFROM:+0000
TZOFFSETTO:+0000
END:STANDARD
END:VTIMEZONE
BEGIN:VEVENT
UID:15-7
DTSTAMP:20260423T234557Z
SUMMARY:Field Trip - Grey Mountain Area\, Members Only
LOCATION:
ORGANIZER;CN=Admin:MAILTO:webmaster@sedonagemandmineral.org
DTSTART;TZID=America/Phoenix;VALUE=DATE:20240420
DTEND;TZID=America/Phoenix;VALUE=DATE:20240421
X-ALT-DESC;FMTTYPE=TEXT/HTML:We will search for petrified wood\, jasper and
  agates. See Newsletters for more details.  Member only\, please indicate
  attendance to Rik Fritz. &amp;nbsp\;
CATEGORIES:Field Trip
URL;VALUE=URI:https://sedonagemandmineral.org/mc-events/field-trip-grey-mou
 ntain-area-members-only/
METHOD:PUBLISH
END:VEVENT
END:VCALENDAR