BEGIN:VCALENDAR
VERSION:2.0
PRODID:spatie/icalendar-generator
DESCRIPTION:Events from 
X-WR-CALDESC:Events from 
REFRESH-INTERVAL;VALUE=DURATION:PT1440M
X-PUBLISHED-TTL:PT1440M
BEGIN:VTIMEZONE
TZID:America/Phoenix
BEGIN:STANDARD
DTSTART:20230627T000000Z
TZOFFSETFROM:-0700
TZOFFSETTO:-0700
END:STANDARD
END:VTIMEZONE
BEGIN:VTIMEZONE
TZID:UTC
BEGIN:STANDARD
DTSTART:20250727T232721Z
TZOFFSETFROM:+0000
TZOFFSETTO:+0000
END:STANDARD
END:VTIMEZONE
BEGIN:VEVENT
UID:14-6
DTSTAMP:20260423T232721Z
SUMMARY:Field Trip - Fourth of July Butte Area\, Members Only
LOCATION:
ORGANIZER;CN=Admin:MAILTO:webmaster@sedonagemandmineral.org
DTSTART;TZID=America/Phoenix;VALUE=DATE:20240323
DTEND;TZID=America/Phoenix;VALUE=DATE:20240324
X-ALT-DESC;FMTTYPE=TEXT/HTML:Our quest is agate West of Buckeye\, AZ and it
 s a wonderful time to be in the desert. See Newsletters for more details.
   Member Only\, please indicate attendance to Rik Fritz.
CATEGORIES:Field Trip
URL;VALUE=URI:https://sedonagemandmineral.org/mc-events/field-trip-fourth-o
 f-july-butte-area-members-only/
METHOD:PUBLISH
END:VEVENT
END:VCALENDAR