BEGIN:VCALENDAR
VERSION:2.0
PRODID:spatie/icalendar-generator
DESCRIPTION:Events from 
X-WR-CALDESC:Events from 
REFRESH-INTERVAL;VALUE=DURATION:PT1440M
X-PUBLISHED-TTL:PT1440M
BEGIN:VTIMEZONE
TZID:America/Phoenix
BEGIN:STANDARD
DTSTART:20230124T000000Z
TZOFFSETFROM:-0700
TZOFFSETTO:-0700
END:STANDARD
END:VTIMEZONE
BEGIN:VTIMEZONE
TZID:UTC
BEGIN:STANDARD
DTSTART:20250727T221720Z
TZOFFSETFROM:+0000
TZOFFSETTO:+0000
END:STANDARD
END:VTIMEZONE
BEGIN:VEVENT
UID:10-3
DTSTAMP:20260423T221720Z
SUMMARY:SEDONA GEM AND MINERAL CLUB ANNUAL SHOW
LOCATION:Sedona Red Rock Jr. Sr. High School 995 Upper Red Rock Loop Rd  Se
 dona AZ 86336
ORGANIZER;CN=Admin:MAILTO:webmaster@sedonagemandmineral.org
DTSTART;TZID=America/Phoenix;VALUE=DATE:20231021
DTEND;TZID=America/Phoenix;VALUE=DATE:20231023
X-ALT-DESC;FMTTYPE=TEXT/HTML:Rock\, Gem and Jewelry Show.  40 Vendors.  N
 ot to be missed!   Sedona Red Rock High School.  Free Parking.  $5 Admi
 ssion fee (cash only.)
CATEGORIES:Event
URL;VALUE=URI:https://sedonagemandmineral.org/mc-events/sedona-gem-and-mine
 ral-club-annual-show/
METHOD:PUBLISH
END:VEVENT
END:VCALENDAR